Package: bcSeq Version: 1.31.0 Maintainer: Jiaxing Lin MaintainerEmail: jiaxing.lin at duke.edu git_url: https://git.bioconductor.org/packages/bcSeq git_branch: devel git_last_commit: 2ece820 git_last_commit_date: 2025-04-15 11:16:21 -0400 (Tue, 15 Apr 2025)