Package: bayNorm Version: 1.27.0 Command: chmod a+r bayNorm -R && F:\biocbuild\bbs-3.22-bioc\R\bin\R.exe CMD build --keep-empty-dirs --no-resave-data bayNorm StartedAt: 2025-08-14 18:35:19 -0400 (Thu, 14 Aug 2025) EndedAt: 2025-08-14 18:36:53 -0400 (Thu, 14 Aug 2025) EllapsedTime: 94.4 seconds RetCode: 0 Status: OK PackageFile: bayNorm_1.27.0.tar.gz PackageFileSize: 1.526 MiB