Package: bayNorm Version: 1.27.0 Command: rm -rf bayNorm.buildbin-libdir && mkdir bayNorm.buildbin-libdir && F:\biocbuild\bbs-3.22-bioc\R\bin\R.exe CMD INSTALL --build --library=bayNorm.buildbin-libdir bayNorm_1.27.0.tar.gz StartedAt: 2025-08-15 09:47:02 -0400 (Fri, 15 Aug 2025) EndedAt: 2025-08-15 09:48:17 -0400 (Fri, 15 Aug 2025) EllapsedTime: 74.8 seconds RetCode: 0 Status: OK PackageFile: bayNorm_1.27.0.zip PackageFileSize: 880.3 KiB