Package: batchelor Version: 1.23.0 Command: E:\biocbuild\bbs-3.21-bioc\R\bin\R.exe CMD INSTALL batchelor StartedAt: 2025-02-14 16:47:56 -0500 (Fri, 14 Feb 2025) EndedAt: 2025-02-14 16:49:11 -0500 (Fri, 14 Feb 2025) EllapsedTime: 74.8 seconds RetCode: 0 Status: OK