Package: batchelor Version: 1.23.0 Command: /home/biocbuild/R/R/bin/R CMD INSTALL batchelor StartedAt: 2025-01-29 20:27:15 -0000 (Wed, 29 Jan 2025) EndedAt: 2025-01-29 20:28:13 -0000 (Wed, 29 Jan 2025) EllapsedTime: 58.7 seconds RetCode: 0 Status: OK