Package: batchelor Version: 1.23.0 Command: /home/biocbuild/R/R/bin/R CMD check --install=check:batchelor.install-out.txt --library=/home/biocbuild/R/R/site-library --no-vignettes --timings batchelor_1.23.0.tar.gz StartedAt: 2025-01-28 03:42:43 -0000 (Tue, 28 Jan 2025) EndedAt: 2025-01-28 03:51:02 -0000 (Tue, 28 Jan 2025) EllapsedTime: 499.6 seconds RetCode: 0 Status: OK CheckDir: batchelor.Rcheck Warnings: 0