Package: batchelor Version: 1.23.0 Command: /home/biocbuild/R/R/bin/R CMD build --keep-empty-dirs --no-resave-data batchelor StartedAt: 2025-01-29 21:00:59 -0000 (Wed, 29 Jan 2025) EndedAt: 2025-01-29 21:06:39 -0000 (Wed, 29 Jan 2025) EllapsedTime: 340.1 seconds RetCode: 0 Status: OK PackageFile: batchelor_1.23.0.tar.gz PackageFileSize: 1.372 MiB