Package: batchCorr Version: 0.99.8 Command: /home/biocbuild/R/R/bin/R CMD build --keep-empty-dirs --no-resave-data batchCorr StartedAt: 2025-10-16 23:13:36 -0000 (Thu, 16 Oct 2025) EndedAt: 2025-10-16 23:16:06 -0000 (Thu, 16 Oct 2025) EllapsedTime: 150.0 seconds RetCode: 0 Status: OK PackageFile: batchCorr_0.99.8.tar.gz PackageFileSize: 925.2 KiB