Package: batchCorr Version: 0.99.8 Command: /Library/Frameworks/R.framework/Resources/bin/R CMD INSTALL batchCorr StartedAt: 2025-09-30 15:21:53 -0400 (Tue, 30 Sep 2025) EndedAt: 2025-09-30 15:22:22 -0400 (Tue, 30 Sep 2025) EllapsedTime: 29.7 seconds RetCode: 0 Status: OK