Package: batchCorr Version: 0.99.8 Command: /Library/Frameworks/R.framework/Resources/bin/R CMD build --keep-empty-dirs --no-resave-data batchCorr StartedAt: 2025-09-30 16:04:47 -0400 (Tue, 30 Sep 2025) EndedAt: 2025-09-30 16:07:24 -0400 (Tue, 30 Sep 2025) EllapsedTime: 156.5 seconds RetCode: 0 Status: OK PackageFile: batchCorr_0.99.8.tar.gz PackageFileSize: 900.5 KiB