Package: batchCorr Version: 0.99.8 Command: rm -rf batchCorr.buildbin-libdir && mkdir batchCorr.buildbin-libdir && /Users/biocbuild/BBS/utils/build-universal.sh batchCorr_0.99.8.tar.gz /Library/Frameworks/R.framework/Resources/bin/R batchCorr.buildbin-libdir StartedAt: 2025-10-01 01:31:04 -0400 (Wed, 01 Oct 2025) EndedAt: 2025-10-01 01:31:37 -0400 (Wed, 01 Oct 2025) EllapsedTime: 32.5 seconds RetCode: 0 Status: OK PackageFile: batchCorr_0.99.8.tgz PackageFileSize: 976.3 KiB