Package: basilisk Version: 1.21.5 Command: /home/biocbuild/R/R/bin/R CMD INSTALL basilisk StartedAt: 2025-10-06 20:21:56 -0000 (Mon, 06 Oct 2025) EndedAt: 2025-10-06 20:22:32 -0000 (Mon, 06 Oct 2025) EllapsedTime: 35.8 seconds RetCode: 0 Status: OK