Package: basilisk Version: 1.21.5 Command: /home/biocbuild/R/R/bin/R CMD build --keep-empty-dirs --no-resave-data basilisk StartedAt: 2025-10-06 21:52:34 -0000 (Mon, 06 Oct 2025) EndedAt: 2025-10-06 21:53:48 -0000 (Mon, 06 Oct 2025) EllapsedTime: 74.0 seconds RetCode: 0 Status: OK PackageFile: basilisk_1.21.5.tar.gz PackageFileSize: 287.2 KiB