Package: basilisk Version: 1.21.5 Command: /home/biocbuild/bbs-3.22-bioc/R/bin/R CMD check --install=check:basilisk.install-out.txt --library=/home/biocbuild/bbs-3.22-bioc/R/site-library --timings basilisk_1.21.5.tar.gz StartedAt: 2025-10-17 21:15:53 -0400 (Fri, 17 Oct 2025) EndedAt: 2025-10-17 21:22:00 -0400 (Fri, 17 Oct 2025) EllapsedTime: 366.3 seconds RetCode: 0 Status: OK CheckDir: basilisk.Rcheck Warnings: 0