Package: basilisk.utils Version: 1.21.2 Command: /home/biocbuild/R/R/bin/R CMD INSTALL basilisk.utils StartedAt: 2025-09-29 20:32:34 -0000 (Mon, 29 Sep 2025) EndedAt: 2025-09-29 20:32:58 -0000 (Mon, 29 Sep 2025) EllapsedTime: 23.4 seconds RetCode: 0 Status: OK