Package: basilisk.utils Version: 1.21.2 Command: /home/biocbuild/bbs-3.22-bioc/R/bin/R CMD INSTALL basilisk.utils StartedAt: 2025-07-25 17:17:52 -0400 (Fri, 25 Jul 2025) EndedAt: 2025-07-25 17:18:02 -0400 (Fri, 25 Jul 2025) EllapsedTime: 9.8 seconds RetCode: 0 Status: OK