Package: basilisk.utils Version: 1.21.2 Command: /home/biocbuild/bbs-3.22-bioc/R/bin/R CMD build --keep-empty-dirs --no-resave-data --md5 basilisk.utils StartedAt: 2025-07-25 18:26:23 -0400 (Fri, 25 Jul 2025) EndedAt: 2025-07-25 18:26:27 -0400 (Fri, 25 Jul 2025) EllapsedTime: 4.0 seconds RetCode: 0 Status: OK PackageFile: basilisk.utils_1.21.2.tar.gz PackageFileSize: 229.7 KiB