Package: barcodetrackR Version: 1.17.0 Command: F:\biocbuild\bbs-3.22-bioc\R\bin\R.exe CMD INSTALL barcodetrackR StartedAt: 2025-08-14 16:00:26 -0400 (Thu, 14 Aug 2025) EndedAt: 2025-08-14 16:01:10 -0400 (Thu, 14 Aug 2025) EllapsedTime: 43.4 seconds RetCode: 0 Status: OK