Package: barcodetrackR Version: 1.17.0 Command: rm -rf barcodetrackR.buildbin-libdir && mkdir barcodetrackR.buildbin-libdir && /Users/biocbuild/BBS/utils/build-universal.sh barcodetrackR_1.17.0.tar.gz /Library/Frameworks/R.framework/Resources/bin/R barcodetrackR.buildbin-libdir StartedAt: 2025-10-07 22:37:12 -0400 (Tue, 07 Oct 2025) EndedAt: 2025-10-07 22:37:24 -0400 (Tue, 07 Oct 2025) EllapsedTime: 12.3 seconds RetCode: 0 Status: OK PackageFile: barcodetrackR_1.17.0.tgz PackageFileSize: 3.757 MiB