Package: barbieQ Version: 1.1.2 Command: /home/biocbuild/bbs-3.22-bioc/R/bin/R CMD INSTALL barbieQ StartedAt: 2025-10-20 15:20:08 -0400 (Mon, 20 Oct 2025) EndedAt: 2025-10-20 15:20:37 -0400 (Mon, 20 Oct 2025) EllapsedTime: 29.1 seconds RetCode: 0 Status: OK