Package: barbieQ Version: 1.1.2 Command: /home/biocbuild/bbs-3.22-bioc/R/bin/R CMD build --keep-empty-dirs --no-resave-data --md5 barbieQ StartedAt: 2025-10-20 16:16:47 -0400 (Mon, 20 Oct 2025) EndedAt: 2025-10-20 16:22:00 -0400 (Mon, 20 Oct 2025) EllapsedTime: 312.2 seconds RetCode: 0 Status: OK PackageFile: barbieQ_1.1.2.tar.gz PackageFileSize: 4.172 MiB