Package: banocc Version: 1.33.0 Command: /home/biocbuild/R/R/bin/R CMD build --keep-empty-dirs --no-resave-data banocc StartedAt: 2025-10-06 21:47:25 -0000 (Mon, 06 Oct 2025) EndedAt: 2025-10-06 21:51:47 -0000 (Mon, 06 Oct 2025) EllapsedTime: 262.1 seconds RetCode: 0 Status: OK PackageFile: banocc_1.33.0.tar.gz PackageFileSize: 25.74 MiB