Package: banocc Version: 1.33.0 Command: /Library/Frameworks/R.framework/Resources/bin/R CMD INSTALL banocc StartedAt: 2025-05-02 15:09:19 -0400 (Fri, 02 May 2025) EndedAt: 2025-05-02 15:09:52 -0400 (Fri, 02 May 2025) EllapsedTime: 32.9 seconds RetCode: 0 Status: OK