Package: banocc Version: 1.33.0 Command: /Library/Frameworks/R.framework/Resources/bin/R CMD INSTALL banocc StartedAt: 2025-05-06 15:04:23 -0400 (Tue, 06 May 2025) EndedAt: 2025-05-06 15:04:36 -0400 (Tue, 06 May 2025) EllapsedTime: 13.5 seconds RetCode: 0 Status: OK