Package: banocc Version: 1.33.0 Command: /Library/Frameworks/R.framework/Resources/bin/R CMD build --keep-empty-dirs --no-resave-data banocc StartedAt: 2025-05-07 15:41:47 -0400 (Wed, 07 May 2025) EndedAt: 2025-05-07 15:42:31 -0400 (Wed, 07 May 2025) EllapsedTime: 43.5 seconds RetCode: 0 Status: OK PackageFile: banocc_1.33.0.tar.gz PackageFileSize: 26.02 MiB