Package: bandle Version: 1.13.0 Command: /home/biocbuild/bbs-3.22-bioc/R/bin/R CMD INSTALL bandle StartedAt: 2025-10-10 15:55:14 -0400 (Fri, 10 Oct 2025) EndedAt: 2025-10-10 15:56:48 -0400 (Fri, 10 Oct 2025) EllapsedTime: 94.0 seconds RetCode: 0 Status: OK