Package: bandle Version: 1.13.0 Command: /Library/Frameworks/R.framework/Resources/bin/R CMD INSTALL bandle StartedAt: 2025-05-27 15:36:18 -0400 (Tue, 27 May 2025) EndedAt: 2025-05-27 15:38:13 -0400 (Tue, 27 May 2025) EllapsedTime: 114.9 seconds RetCode: 0 Status: OK