Package: bandle Version: 1.11.0 Command: /home/biocbuild/R/R/bin/R CMD check --install=check:bandle.install-out.txt --library=/home/biocbuild/R/R/site-library --no-vignettes --timings bandle_1.11.0.tar.gz StartedAt: 2025-01-28 03:40:46 -0000 (Tue, 28 Jan 2025) EndedAt: 2025-01-28 03:55:12 -0000 (Tue, 28 Jan 2025) EllapsedTime: 865.2 seconds RetCode: 0 Status: WARNINGS CheckDir: bandle.Rcheck Warnings: 6