Package: bamsignals Version: 1.41.2 Command: /home/biocbuild/R/R/bin/R CMD build --keep-empty-dirs --no-resave-data bamsignals StartedAt: 2025-10-02 21:56:16 -0000 (Thu, 02 Oct 2025) EndedAt: 2025-10-02 21:56:58 -0000 (Thu, 02 Oct 2025) EllapsedTime: 42.0 seconds RetCode: 0 Status: OK PackageFile: bamsignals_1.41.2.tar.gz PackageFileSize: 3.023 MiB