Package: bamsignals Version: 1.41.2 Command: F:\biocbuild\bbs-3.22-bioc\R\bin\R.exe CMD INSTALL bamsignals StartedAt: 2025-08-14 15:47:01 -0400 (Thu, 14 Aug 2025) EndedAt: 2025-08-14 15:47:48 -0400 (Thu, 14 Aug 2025) EllapsedTime: 46.7 seconds RetCode: 0 Status: OK