Package: bamsignals Version: 1.41.2 Command: chmod a+r bamsignals -R && F:\biocbuild\bbs-3.22-bioc\R\bin\R.exe CMD build --keep-empty-dirs --no-resave-data bamsignals StartedAt: 2025-08-14 18:32:31 -0400 (Thu, 14 Aug 2025) EndedAt: 2025-08-14 18:33:31 -0400 (Thu, 14 Aug 2025) EllapsedTime: 59.6 seconds RetCode: 0 Status: OK PackageFile: bamsignals_1.41.2.tar.gz PackageFileSize: 2.677 MiB