Package: bambu Version: 3.11.2 Command: /home/biocbuild/R/R/bin/R CMD build --keep-empty-dirs --no-resave-data bambu StartedAt: 2025-10-06 21:46:29 -0000 (Mon, 06 Oct 2025) EndedAt: 2025-10-06 22:22:17 -0000 (Mon, 06 Oct 2025) EllapsedTime: 2147.6 seconds RetCode: 0 Status: OK PackageFile: bambu_3.11.2.tar.gz PackageFileSize: 2.108 MiB