Package: bambu Version: 3.11.2 Command: F:\biocbuild\bbs-3.22-bioc\R\bin\R.exe CMD INSTALL bambu StartedAt: 2025-08-14 16:42:13 -0400 (Thu, 14 Aug 2025) EndedAt: 2025-08-14 16:43:55 -0400 (Thu, 14 Aug 2025) EllapsedTime: 102.6 seconds RetCode: 0 Status: OK