Package: bambu Version: 3.11.2 Command: /home/biocbuild/bbs-3.22-bioc/R/bin/R CMD build --keep-empty-dirs --no-resave-data --md5 bambu StartedAt: 2025-10-28 16:17:58 -0400 (Tue, 28 Oct 2025) EndedAt: 2025-10-28 16:30:35 -0400 (Tue, 28 Oct 2025) EllapsedTime: 756.6 seconds RetCode: 0 Status: OK PackageFile: bambu_3.11.2.tar.gz PackageFileSize: 2.27 MiB