Package: bambu Version: 3.9.1 Command: /home/biocbuild/bbs-3.21-bioc/R/bin/R CMD check --install=check:bambu.install-out.txt --library=/home/biocbuild/bbs-3.21-bioc/R/site-library --timings bambu_3.9.1.tar.gz StartedAt: 2025-02-02 20:02:52 -0500 (Sun, 02 Feb 2025) EndedAt: 2025-02-02 20:22:24 -0500 (Sun, 02 Feb 2025) EllapsedTime: 1171.9 seconds RetCode: 0 Status: OK CheckDir: bambu.Rcheck Warnings: 0