Package: bambu Version: 3.11.0 Maintainer: Ying Chen MaintainerEmail: chen_ying at gis.a-star.edu.sg git_url: https://git.bioconductor.org/packages/bambu git_branch: devel git_last_commit: 254f068 git_last_commit_date: 2025-04-15 12:12:41 -0400 (Tue, 15 Apr 2025)