Package: ballgown Version: 2.41.1 Command: /home/biocbuild/R/R/bin/R CMD build --keep-empty-dirs --no-resave-data ballgown StartedAt: 2025-10-02 21:55:48 -0000 (Thu, 02 Oct 2025) EndedAt: 2025-10-02 21:56:54 -0000 (Thu, 02 Oct 2025) EllapsedTime: 66.0 seconds RetCode: 0 Status: OK PackageFile: ballgown_2.41.1.tar.gz PackageFileSize: 3.005 MiB