Package: ballgown Version: 2.39.0 Command: /home/biocbuild/bbs-3.21-bioc/R/bin/R CMD build --keep-empty-dirs --no-resave-data ballgown StartedAt: 2025-02-05 16:12:06 -0500 (Wed, 05 Feb 2025) EndedAt: 2025-02-05 16:12:57 -0500 (Wed, 05 Feb 2025) EllapsedTime: 51.1 seconds RetCode: 0 Status: OK PackageFile: ballgown_2.39.0.tar.gz PackageFileSize: 3.044 MiB