Package: ballgown Version: 2.39.0 Command: /Library/Frameworks/R.framework/Resources/bin/R CMD INSTALL ballgown StartedAt: 2025-02-03 15:38:52 -0500 (Mon, 03 Feb 2025) EndedAt: 2025-02-03 15:39:42 -0500 (Mon, 03 Feb 2025) EllapsedTime: 50.2 seconds RetCode: 0 Status: OK