Package: ballgown Version: 2.39.0 Command: /Library/Frameworks/R.framework/Resources/bin/R CMD check --install=check:ballgown.install-out.txt --library=/Library/Frameworks/R.framework/Resources/library --no-vignettes --timings ballgown_2.39.0.tar.gz StartedAt: 2025-02-03 19:02:13 -0500 (Mon, 03 Feb 2025) EndedAt: 2025-02-03 19:09:07 -0500 (Mon, 03 Feb 2025) EllapsedTime: 414.0 seconds RetCode: 0 Status: OK CheckDir: ballgown.Rcheck Warnings: 0