Package: ballgown Version: 2.39.0 Command: /Library/Frameworks/R.framework/Resources/bin/R CMD build --keep-empty-dirs --no-resave-data ballgown StartedAt: 2025-02-05 15:54:25 -0500 (Wed, 05 Feb 2025) EndedAt: 2025-02-05 15:55:22 -0500 (Wed, 05 Feb 2025) EllapsedTime: 57.0 seconds RetCode: 0 Status: OK PackageFile: ballgown_2.39.0.tar.gz PackageFileSize: 3.081 MiB