Package: ballgown Version: 2.39.0 Command: rm -rf ballgown.buildbin-libdir && mkdir ballgown.buildbin-libdir && /Users/biocbuild/BBS/utils/build-universal.sh ballgown_2.39.0.tar.gz /Library/Frameworks/R.framework/Resources/bin/R ballgown.buildbin-libdir StartedAt: 2025-02-04 00:23:11 -0500 (Tue, 04 Feb 2025) EndedAt: 2025-02-04 00:24:04 -0500 (Tue, 04 Feb 2025) EllapsedTime: 53.0 seconds RetCode: 0 Status: OK PackageFile: ballgown_2.39.0.tgz PackageFileSize: 3.316 MiB