Package: ballgown Version: 2.39.0 Command: /home/biocbuild/R/R/bin/R CMD INSTALL ballgown StartedAt: 2025-01-29 20:20:18 -0000 (Wed, 29 Jan 2025) EndedAt: 2025-01-29 20:21:10 -0000 (Wed, 29 Jan 2025) EllapsedTime: 51.4 seconds RetCode: 0 Status: OK