Package: ballgown Version: 2.39.0 Command: /Library/Frameworks/R.framework/Resources/bin/R CMD INSTALL ballgown StartedAt: 2025-02-10 15:21:44 -0500 (Mon, 10 Feb 2025) EndedAt: 2025-02-10 15:21:59 -0500 (Mon, 10 Feb 2025) EllapsedTime: 14.8 seconds RetCode: 0 Status: OK