Package: ballgown Version: 2.39.0 Command: /Library/Frameworks/R.framework/Resources/bin/R CMD build --keep-empty-dirs --no-resave-data ballgown StartedAt: 2025-02-05 15:36:46 -0500 (Wed, 05 Feb 2025) EndedAt: 2025-02-05 15:37:07 -0500 (Wed, 05 Feb 2025) EllapsedTime: 20.2 seconds RetCode: 0 Status: OK PackageFile: ballgown_2.39.0.tar.gz PackageFileSize: 3.081 MiB