Package: ballgown Version: 2.39.0 Maintainer: Jack Fu MaintainerEmail: jmfu at jhsph.edu git_url: https://git.bioconductor.org/packages/ballgown git_branch: devel git_last_commit: 01a0bbb git_last_commit_date: 2024-10-29 09:53:32 -0500 (Tue, 29 Oct 2024)