Package: bacon Version: 1.35.0 Command: E:\biocbuild\bbs-3.21-bioc\R\bin\R.exe CMD INSTALL bacon StartedAt: 2025-02-04 15:35:02 -0500 (Tue, 04 Feb 2025) EndedAt: 2025-02-04 15:35:26 -0500 (Tue, 04 Feb 2025) EllapsedTime: 23.6 seconds RetCode: 0 Status: OK