Package: bacon Version: 1.35.0 Command: E:\biocbuild\bbs-3.21-bioc\R\bin\R.exe CMD check --no-multiarch --install=check:bacon.install-out.txt --library=E:\biocbuild\bbs-3.21-bioc\R\library --no-vignettes --timings bacon_1.35.0.tar.gz StartedAt: 2025-02-04 23:09:47 -0500 (Tue, 04 Feb 2025) EndedAt: 2025-02-04 23:11:35 -0500 (Tue, 04 Feb 2025) EllapsedTime: 108.6 seconds RetCode: 0 Status: OK CheckDir: bacon.Rcheck Warnings: 0