Package: bacon Version: 1.35.0 Command: chmod a+r bacon -R && E:\biocbuild\bbs-3.21-bioc\R\bin\R.exe CMD build --keep-empty-dirs --no-resave-data bacon StartedAt: 2025-02-04 17:15:38 -0500 (Tue, 04 Feb 2025) EndedAt: 2025-02-04 17:16:54 -0500 (Tue, 04 Feb 2025) EllapsedTime: 75.8 seconds RetCode: 0 Status: OK PackageFile: bacon_1.35.0.tar.gz PackageFileSize: 591.8 KiB