Package: bacon Version: 1.35.0 Command: rm -rf bacon.buildbin-libdir && mkdir bacon.buildbin-libdir && E:\biocbuild\bbs-3.21-bioc\R\bin\R.exe CMD INSTALL --build --library=bacon.buildbin-libdir bacon_1.35.0.tar.gz StartedAt: 2025-02-05 07:27:05 -0500 (Wed, 05 Feb 2025) EndedAt: 2025-02-05 07:27:35 -0500 (Wed, 05 Feb 2025) EllapsedTime: 29.9 seconds RetCode: 0 Status: OK PackageFile: bacon_1.35.0.zip PackageFileSize: 776.9 KiB